BEGIN:VCALENDAR
VERSION:2.0
PRODID:-//Castlemorton Parish Council//Meeting Calendar//EN
CALSCALE:GREGORIAN
METHOD:PUBLISH
BEGIN:VEVENT
UID:70488-20250717@castlemortonparishcouncil.gov.uk
DTSTAMP:20260421T084339Z
DTSTART;VALUE=DATE:20250717
DTEND;VALUE=DATE:20250718
SUMMARY:Council Meeting &#8211\\; 17 July 2025
DESCRIPTION:Full Council Meeting\nView details: https://castlemortonparishcouncil.gov.uk/meetings/council-meeting-17-july-2025/
URL:https://castlemortonparishcouncil.gov.uk/meetings/council-meeting-17-july-2025/
END:VEVENT
END:VCALENDAR
