BEGIN:VCALENDAR
VERSION:2.0
PRODID:-//Castlemorton Parish Council//Meeting Calendar//EN
CALSCALE:GREGORIAN
METHOD:PUBLISH
BEGIN:VEVENT
UID:70496-20250522@castlemortonparishcouncil.gov.uk
DTSTAMP:20260423T090439Z
DTSTART;VALUE=DATE:20250522
DTEND;VALUE=DATE:20250523
SUMMARY:Annual Council Meeting &#8211\\; 22 May 2025
DESCRIPTION:Annual Parish Meeting\nView details: https://castlemortonparishcouncil.gov.uk/meetings/annual-council-meeting-22-may-2025/
URL:https://castlemortonparishcouncil.gov.uk/meetings/annual-council-meeting-22-may-2025/
END:VEVENT
END:VCALENDAR
