BEGIN:VCALENDAR
VERSION:2.0
PRODID:-//Castlemorton Parish Council//Meeting Calendar//EN
CALSCALE:GREGORIAN
METHOD:PUBLISH
BEGIN:VEVENT
UID:70502-20230511@castlemortonparishcouncil.gov.uk
DTSTAMP:20260421T114020Z
DTSTART;VALUE=DATE:20230511
DTEND;VALUE=DATE:20230512
SUMMARY:Annual Council Meeting &#8211\\; 11 May 2023
DESCRIPTION:Annual Parish Meeting\nView details: https://castlemortonparishcouncil.gov.uk/meetings/annual-council-meeting-11-may-2023/
URL:https://castlemortonparishcouncil.gov.uk/meetings/annual-council-meeting-11-may-2023/
END:VEVENT
END:VCALENDAR
