BEGIN:VCALENDAR
VERSION:2.0
PRODID:-//Castlemorton Parish Council//Meeting Calendar//EN
CALSCALE:GREGORIAN
METHOD:PUBLISH
BEGIN:VEVENT
UID:70505-20220512@castlemortonparishcouncil.gov.uk
DTSTAMP:20260425T123602Z
DTSTART;VALUE=DATE:20220512
DTEND;VALUE=DATE:20220513
SUMMARY:Annual Council Meeting &#8211\\; 12 May 2022
DESCRIPTION:Annual Parish Meeting\nView details: https://castlemortonparishcouncil.gov.uk/meetings/annual-council-meeting-12-may-2022/
URL:https://castlemortonparishcouncil.gov.uk/meetings/annual-council-meeting-12-may-2022/
END:VEVENT
END:VCALENDAR
