BEGIN:VCALENDAR
VERSION:2.0
PRODID:-//Castlemorton Parish Council//Meeting Calendar//EN
CALSCALE:GREGORIAN
METHOD:PUBLISH
BEGIN:VEVENT
UID:70508-20210520@castlemortonparishcouncil.gov.uk
DTSTAMP:20260425T131048Z
DTSTART;VALUE=DATE:20210520
DTEND;VALUE=DATE:20210521
SUMMARY:Annual Council Meeting &#8211\\; 20 May 2021
DESCRIPTION:Annual Parish Meeting\nView details: https://castlemortonparishcouncil.gov.uk/meetings/annual-council-meeting-20-may-2021/
URL:https://castlemortonparishcouncil.gov.uk/meetings/annual-council-meeting-20-may-2021/
END:VEVENT
END:VCALENDAR
