BEGIN:VCALENDAR
VERSION:2.0
PRODID:-//Castlemorton Parish Council//Meeting Calendar//EN
CALSCALE:GREGORIAN
METHOD:PUBLISH
BEGIN:VEVENT
UID:70511-20240101@castlemortonparishcouncil.gov.uk
DTSTAMP:20260421T103159Z
DTSTART;VALUE=DATE:20240101
DTEND;VALUE=DATE:20240102
SUMMARY:Council Meetings &#8211\\; 2024
DESCRIPTION:Full Council Meeting\nView details: https://castlemortonparishcouncil.gov.uk/meetings/council-meetings-2024/
URL:https://castlemortonparishcouncil.gov.uk/meetings/council-meetings-2024/
END:VEVENT
END:VCALENDAR
