BEGIN:VCALENDAR
VERSION:2.0
PRODID:-//Castlemorton Parish Council//Meeting Calendar//EN
CALSCALE:GREGORIAN
METHOD:PUBLISH
BEGIN:VEVENT
UID:70544-20210101@castlemortonparishcouncil.gov.uk
DTSTAMP:20260421T084252Z
DTSTART;VALUE=DATE:20210101
DTEND;VALUE=DATE:20210102
SUMMARY:Council Meetings &#8211\\; 2021
DESCRIPTION:Full Council Meeting\nView details: https://castlemortonparishcouncil.gov.uk/meetings/council-meetings-2021/
URL:https://castlemortonparishcouncil.gov.uk/meetings/council-meetings-2021/
END:VEVENT
END:VCALENDAR
