BEGIN:VCALENDAR
VERSION:2.0
PRODID:-//Castlemorton Parish Council//Meeting Calendar//EN
CALSCALE:GREGORIAN
METHOD:PUBLISH
BEGIN:VEVENT
UID:70612-20260521@castlemortonparishcouncil.gov.uk
DTSTAMP:20260421T100506Z
DTSTART;VALUE=DATE:20260521
DTEND;VALUE=DATE:20260522
SUMMARY:Annual Parish Meeting &#8211\\; 21 May 2026
DESCRIPTION:Annual Parish Meeting\nView details: https://castlemortonparishcouncil.gov.uk/meetings/annual-parish-meeting/
URL:https://castlemortonparishcouncil.gov.uk/meetings/annual-parish-meeting/
END:VEVENT
END:VCALENDAR
